BEGIN:VCALENDAR
VERSION:2.0
PRODID:-//株式会社スマイルゴルフ（smilegolf） - ECPv6.1.3//NONSGML v1.0//EN
CALSCALE:GREGORIAN
METHOD:PUBLISH
X-WR-CALNAME:株式会社スマイルゴルフ（smilegolf）
X-ORIGINAL-URL:https://www.golflab.online
X-WR-CALDESC:株式会社スマイルゴルフ（smilegolf） のイベント
REFRESH-INTERVAL;VALUE=DURATION:PT1H
X-Robots-Tag:noindex
X-PUBLISHED-TTL:PT1H
BEGIN:VTIMEZONE
TZID:Asia/Tokyo
BEGIN:STANDARD
TZOFFSETFROM:+0900
TZOFFSETTO:+0900
TZNAME:JST
DTSTART:20200101T000000
END:STANDARD
END:VTIMEZONE
BEGIN:VEVENT
DTSTART;TZID=Asia/Tokyo:20201111T091700
DTEND;TZID=Asia/Tokyo:20201111T170000
DTSTAMP:20260420T035251
CREATED:20201105T075239Z
LAST-MODIFIED:20210328T140837Z
UID:13853-1605086220-1605114000@www.golflab.online
SUMMARY:【募集終了】いづみんとのラウンド企画11/11（水）東京国際空港GC
DESCRIPTION:いづみんさんとのラウンド\n\n2020年11月11日（水）IN　9時17分\,9時24分スタート\n場所：東京国際空港ゴルフ俱楽部\n参加費：25\,000円（プレー代、昼食代込み、利用税は別途かかります。）\n限定：6名募集\n最低催行人数：3名 \nアクセス\n車の場合：東関東自動車道/成田スマートIC 約15.5 km（約23分） \n電車の場合：京成電鉄・上野から東成田まで（急行1時間30分） \n「東成田駅」からタクシーで約20分（約3000円） \n〒289-2244　千葉県香取郡多古町船越2599　TEL:0479-76-5101\n詳細はこちらをご覧ください。
URL:https://www.golflab.online/event/event20201111/
LOCATION:東京国際空港ゴルフ俱楽部\, 千葉県香取郡多古町船越2599\, 日本
ATTACH;FMTTYPE=image/jpeg:https://www.golflab.online/wp-content/uploads/2020/11/アップ-1.jpg
END:VEVENT
END:VCALENDAR